Workbook

Sheet 説明
A1: 地域制約付き研修医マッチングシミュレータ データ入力用スプレッドシート
A2: 注意事項 ・研修医の数は最大100、病院と地域の数はそれぞれ最大20です。 ・各シート名は変更しないでください。 ・アプリケーション側ではデータを保管していませんが、必要であれば研修医の名前などの個人情報は匿名化して入力してください。 ・各シート太枠内のみ入力可能です。 使用法 最初に以下の3つを入力してください。 ・「研修医リスト」のシートに、各研修医の「名前（or 一意なID）」を入力してください。 ・「病院リスト」のシートに、各病院の「名称（or 一意なID）」「定員」を入力してください。 ・「地域リスト」のシートに、各地域の「名称（or 一意なID）」「定員」を入力してください。 以上を入力後、続けて以下の3つを入力してください。 ・「研修医希望順」のシートに、各研修医の「各病院に対する希望順位」を入力してください。 ・「病院希望順」のシートに、各病院の「各研修医に対する希望順位」を入力してください。 ・「地域制約」のシートに、各病院の「属する地域」と「目標定員」を入力してください。目標定員は、1. その病院の定員以下、かつ2. 各地域の病院の目標定員の和が、その地域の定員以下になるように入力してください。

Sheet 研修医リスト
A1: 研修医名
A2: 研修医1
A3: 研修医2
A4: 研修医3
A5: 研修医4
A6: 研修医5
A7: 研修医6
A8: 研修医7
A9: 研修医8
A10: 研修医9
A11: 研修医10
A12: 研修医11
... A31: 研修医30

Sheet 病院リスト
A1: 病院名 | B1: 定員
A2: 病院A | B2: 6
A3: 病院B | B3: 5
A4: 病院C | B4: 10
A5: 病院D | B5: 4
A6: 病院E | B6: 3
A7: 病院F | B7: 8

Sheet 地域リスト
A1: 地域名 | B1: 定員
A2: 地域I | B2: 15
A3: 地域II | B3: 8
A4: 地域III | B4: 12

Sheet 研修医希望順
A1: =研修医リスト!A1 -> 研修医名 | B1: =IF(COLUMN(B1)-1 <= 計算用!$B$4, "第"&TEXT(COLUMN(B1)-1, "@")&"希望", "") -> 第1希望 | C1: =IF(COLUMN(C1)-1 <= 計算用!$B$4, "第"&TEXT(COLUMN(C1)-1, "@")&"希望", "") -> 第2希望 | D1: =IF(COLUMN(D1)-1 <= 計算用!$B$4, "第"&TEXT(COLUMN(D1)-1, "@")&"希望", "") -> 第3希望 | E1: =IF(COLUMN(E1)-1 <= 計算用!$B$4, "第"&TEXT(COLUMN(E1)-1, "@")&"希望", "") -> 第4希望 | F1: =IF(COLUMN(F1)-1 <= 計算用!$B$4, "第"&TEXT(COLUMN(F1)-1, "@")&"希望", "") -> 第5希望 | G1: =IF(COLUMN(G1)-1 <= 計算用!$B$4, "第"&TEXT(COLUMN(G1)-1, "@")&"希望", "") -> 第6希望 | H1: =IF(COLUMN(H1)-1 <= 計算用!$B$4, "第"&TEXT(COLUMN(H1)-1, "@")&"希望", "") | I1: =IF(COLUMN(I1)-1 <= 計算用!$B$4, "第"&TEXT(COLUMN(I1)-1, "@")&"希望", "") | ... U1: =IF(COLUMN(U1)-1 <= 計算用!$B$4, "第"&TEXT(COLUMN(U1)-1, "@")&"希望", "")
A2: =IF(ISBLANK(研修医リスト!A2), "", 研修医リスト!A2) -> 研修医1 | B2: 病院A | C2: 病院B | D2: 病院C | E2: 病院D | F2: 病院E | G2: 病院F
A3: =IF(ISBLANK(研修医リスト!A3), "", 研修医リスト!A3) -> 研修医2 | B3: 病院A | C3: 病院B | D3: 病院C | E3: 病院D | F3: 病院E | G3: 病院F
A4: =IF(ISBLANK(研修医リスト!A4), "", 研修医リスト!A4) -> 研修医3 | B4: 病院A | C4: 病院B | D4: 病院C | E4: 病院D | F4: 病院E | G4: 病院F
A5: =IF(ISBLANK(研修医リスト!A5), "", 研修医リスト!A5) -> 研修医4 | B5: 病院A | C5: 病院B | D5: 病院C | E5: 病院D | F5: 病院E | G5: 病院F
A6: =IF(ISBLANK(研修医リスト!A6), "", 研修医リスト!A6) -> 研修医5 | B6: 病院A | C6: 病院B | D6: 病院C | E6: 病院D | F6: 病院E | G6: 病院F
A7: =IF(ISBLANK(研修医リスト!A7), "", 研修医リスト!A7) -> 研修医6 | B7: 病院A | C7: 病院B | D7: 病院C | E7: 病院D | F7: 病院E | G7: 病院F
A8: =IF(ISBLANK(研修医リスト!A8), "", 研修医リスト!A8) -> 研修医7 | B8: 病院A | C8: 病院B | D8: 病院C | E8: 病院D | F8: 病院E | G8: 病院F
A9: =IF(ISBLANK(研修医リスト!A9), "", 研修医リスト!A9) -> 研修医8 | B9: 病院A | C9: 病院B | D9: 病院C | E9: 病院D | F9: 病院E | G9: 病院F
A10: =IF(ISBLANK(研修医リスト!A10), "", 研修医リスト!A10) -> 研修医9 | B10: 病院A | C10: 病院B | D10: 病院C | E10: 病院D | F10: 病院E | G10: 病院F
A11: =IF(ISBLANK(研修医リスト!A11), "", 研修医リスト!A11) -> 研修医10 | B11: 病院A | C11: 病院B | D11: 病院C | E11: 病院D | F11: 病院E | G11: 病院F
A12: =IF(ISBLANK(研修医リスト!A12), "", 研修医リスト!A12) -> 研修医11 | B12: 病院B | C12: 病院C | D12: 病院D | E12: 病院E | F12: 病院F | G12: 病院A
A13: =IF(ISBLANK(研修医リスト!A13), "", 研修医リスト!A13) -> 研修医12 | B13: 病院B | C13: 病院C | D13: 病院D | E13: 病院E | F13: 病院F | G13: 病院A
... A21: =IF(ISBLANK(研修医リスト!A21), "", 研修医リスト!A21) -> 研修医20 | B21: 病院B | C21: 病院C | D21: 病院D | E21: 病院E | F21: 病院F | G21: 病院A
A22: =IF(ISBLANK(研修医リスト!A22), "", 研修医リスト!A22) -> 研修医21 | B22: 病院F | C22: 病院D | D22: 病院B
A23: =IF(ISBLANK(研修医リスト!A23), "", 研修医リスト!A23) -> 研修医22 | B23: 病院F | C23: 病院D | D23: 病院B
A24: =IF(ISBLANK(研修医リスト!A24), "", 研修医リスト!A24) -> 研修医23 | B24: 病院F | C24: 病院D | D24: 病院B
A25: =IF(ISBLANK(研修医リスト!A25), "", 研修医リスト!A25) -> 研修医24 | B25: 病院F | C25: 病院D | D25: 病院B
A26: =IF(ISBLANK(研修医リスト!A26), "", 研修医リスト!A26) -> 研修医25 | B26: 病院F | C26: 病院D | D26: 病院B
A27: =IF(ISBLANK(研修医リスト!A27), "", 研修医リスト!A27) -> 研修医26 | B27: 病院C | C27: 病院E
A28: =IF(ISBLANK(研修医リスト!A28), "", 研修医リスト!A28) -> 研修医27 | B28: 病院C | C28: 病院E
A29: =IF(ISBLANK(研修医リスト!A29), "", 研修医リスト!A29) -> 研修医28 | B29: 病院C | C29: 病院E
A30: =IF(ISBLANK(研修医リスト!A30), "", 研修医リスト!A30) -> 研修医29 | B30: 病院C | C30: 病院E
A31: =IF(ISBLANK(研修医リスト!A31), "", 研修医リスト!A31) -> 研修医30 | B31: 病院C | C31: 病院E
A32: =IF(ISBLANK(研修医リスト!A32), "", 研修医リスト!A32)
A33: =IF(ISBLANK(研修医リスト!A33), "", 研修医リスト!A33)
A34: =IF(ISBLANK(研修医リスト!A34), "", 研修医リスト!A34)
A35: =IF(ISBLANK(研修医リスト!A35), "", 研修医リスト!A35)
A36: =IF(ISBLANK(研修医リスト!A36), "", 研修医リスト!A36)
A37: =IF(ISBLANK(研修医リスト!A37), "", 研修医リスト!A37)
A38: =IF(ISBLANK(研修医リスト!A38), "", 研修医リスト!A38)
A39: =IF(ISBLANK(研修医リスト!A39), "", 研修医リスト!A39)
A40: =IF(ISBLANK(研修医リスト!A40), "", 研修医リスト!A40)
A41: =IF(ISBLANK(研修医リスト!A41), "", 研修医リスト!A41)
A42: =IF(ISBLANK(研修医リスト!A42), "", 研修医リスト!A42)
A43: =IF(ISBLANK(研修医リスト!A43), "", 研修医リスト!A43)
... A101: =IF(ISBLANK(研修医リスト!A101), "", 研修医リスト!A101)

Sheet 病院希望順
A1: =病院リスト!A1 -> 病院名 | B1: =IF(COLUMN(B1)-1 <= 計算用!$B$3, "第"&TEXT(COLUMN(B1)-1, "@")&"希望", "") -> 第1希望 | C1: =IF(COLUMN(C1)-1 <= 計算用!$B$3, "第"&TEXT(COLUMN(C1)-1, "@")&"希望", "") -> 第2希望 | D1: =IF(COLUMN(D1)-1 <= 計算用!$B$3, "第"&TEXT(COLUMN(D1)-1, "@")&"希望", "") -> 第3希望 | E1: =IF(COLUMN(E1)-1 <= 計算用!$B$3, "第"&TEXT(COLUMN(E1)-1, "@")&"希望", "") -> 第4希望 | F1: =IF(COLUMN(F1)-1 <= 計算用!$B$3, "第"&TEXT(COLUMN(F1)-1, "@")&"希望", "") -> 第5希望 | G1: =IF(COLUMN(G1)-1 <= 計算用!$B$3, "第"&TEXT(COLUMN(G1)-1, "@")&"希望", "") -> 第6希望 | H1: =IF(COLUMN(H1)-1 <= 計算用!$B$3, "第"&TEXT(COLUMN(H1)-1, "@")&"希望", "") -> 第7希望 | I1: =IF(COLUMN(I1)-1 <= 計算用!$B$3, "第"&TEXT(COLUMN(I1)-1, "@")&"希望", "") -> 第8希望 | ... CW1: =IF(COLUMN(CW1)-1 <= 計算用!$B$3, "第"&TEXT(COLUMN(CW1)-1, "@")&"希望", "")
A2: =IF(ISBLANK(病院リスト!A2), "", 病院リスト!A2) -> 病院A | B2: 研修医1 | C2: 研修医2 | D2: 研修医3 | E2: 研修医4 | F2: 研修医5 | G2: 研修医6 | H2: 研修医7 | I2: 研修医8 | J2: 研修医9 | K2: 研修医10 | L2: 研修医11 | M2: 研修医12 | N2: 研修医13 | O2: 研修医14 | P2: 研修医15 | Q2: 研修医16 | R2: 研修医17 | S2: 研修医18 | T2: 研修医19 | U2: 研修医20 | V2: 研修医21 | W2: 研修医22 | X2: 研修医23 | Y2: 研修医24 | Z2: 研修医25 | AA2: 研修医26 | AB2: 研修医27 | AC2: 研修医28 | AD2: 研修医29 | AE2: 研修医30
A3: =IF(ISBLANK(病院リスト!A3), "", 病院リスト!A3) -> 病院B | B3: 研修医1 | C3: 研修医2 | D3: 研修医3 | E3: 研修医4 | F3: 研修医5 | G3: 研修医6 | H3: 研修医7 | I3: 研修医8 | J3: 研修医9 | K3: 研修医10 | L3: 研修医11 | M3: 研修医12 | N3: 研修医13 | O3: 研修医14 | P3: 研修医15 | Q3: 研修医16 | R3: 研修医17 | S3: 研修医18 | T3: 研修医19 | U3: 研修医20 | V3: 研修医21 | W3: 研修医22 | X3: 研修医23 | Y3: 研修医24 | Z3: 研修医25 | AA3: 研修医26 | AB3: 研修医27 | AC3: 研修医28 | AD3: 研修医29 | AE3: 研修医30
A4: =IF(ISBLANK(病院リスト!A4), "", 病院リスト!A4) -> 病院C | B4: 研修医15 | C4: 研修医16 | D4: 研修医17 | E4: 研修医18 | F4: 研修医19 | G4: 研修医20 | H4: 研修医21 | I4: 研修医22 | J4: 研修医23 | K4: 研修医24 | L4: 研修医25 | M4: 研修医26 | N4: 研修医27 | O4: 研修医28 | P4: 研修医29 | Q4: 研修医30
A5: =IF(ISBLANK(病院リスト!A5), "", 病院リスト!A5) -> 病院D | B5: 研修医15 | C5: 研修医16 | D5: 研修医17 | E5: 研修医18 | F5: 研修医19 | G5: 研修医20 | H5: 研修医21 | I5: 研修医22 | J5: 研修医23 | K5: 研修医24 | L5: 研修医25 | M5: 研修医26 | N5: 研修医27 | O5: 研修医28 | P5: 研修医29 | Q5: 研修医30
A6: =IF(ISBLANK(病院リスト!A6), "", 病院リスト!A6) -> 病院E | B6: 研修医1 | C6: 研修医2 | D6: 研修医3 | E6: 研修医4 | F6: 研修医5 | G6: 研修医6 | H6: 研修医7 | I6: 研修医8 | J6: 研修医9 | K6: 研修医10 | L6: 研修医11 | M6: 研修医12 | N6: 研修医13 | O6: 研修医14 | P6: 研修医15 | Q6: 研修医16 | R6: 研修医17 | S6: 研修医18
A7: =IF(ISBLANK(病院リスト!A7), "", 病院リスト!A7) -> 病院F | B7: 研修医20 | C7: 研修医21 | D7: 研修医22 | E7: 研修医23 | F7: 研修医24 | G7: 研修医25 | H7: 研修医26 | I7: 研修医27 | J7: 研修医28 | K7: 研修医29 | L7: 研修医30
A8: =IF(ISBLANK(病院リスト!A8), "", 病院リスト!A8)
A9: =IF(ISBLANK(病院リスト!A9), "", 病院リスト!A9)
A10: =IF(ISBLANK(病院リスト!A10), "", 病院リスト!A10)
A11: =IF(ISBLANK(病院リスト!A11), "", 病院リスト!A11)
A12: =IF(ISBLANK(病院リスト!A12), "", 病院リスト!A12)
A13: =IF(ISBLANK(病院リスト!A13), "", 病院リスト!A13)
A14: =IF(ISBLANK(病院リスト!A14), "", 病院リスト!A14)
A15: =IF(ISBLANK(病院リスト!A15), "", 病院リスト!A15)
A16: =IF(ISBLANK(病院リスト!A16), "", 病院リスト!A16)
A17: =IF(ISBLANK(病院リスト!A17), "", 病院リスト!A17)
A18: =IF(ISBLANK(病院リスト!A18), "", 病院リスト!A18)
A19: =IF(ISBLANK(病院リスト!A19), "", 病院リスト!A19)
... A21: =IF(ISBLANK(病院リスト!A21), "", 病院リスト!A21)

Sheet 地域制約
A1: 病院名 | B1: 各病院の定員 | C1: 属する地域 | D1: 目標定員
A2: =IF(ISBLANK(病院リスト!A2), "", 病院リスト!A2) -> 病院A | B2: =IF(ISBLANK(病院リスト!B2),"",病院リスト!B2) -> 6 | C2: 地域I | D2: 6
A3: =IF(ISBLANK(病院リスト!A3), "", 病院リスト!A3) -> 病院B | B3: =IF(ISBLANK(病院リスト!B3),"",病院リスト!B3) -> 5 | C3: 地域I | D3: 5
A4: =IF(ISBLANK(病院リスト!A4), "", 病院リスト!A4) -> 病院C | B4: =IF(ISBLANK(病院リスト!B4),"",病院リスト!B4) -> 10 | C4: 地域III | D4: 9
A5: =IF(ISBLANK(病院リスト!A5), "", 病院リスト!A5) -> 病院D | B5: =IF(ISBLANK(病院リスト!B5),"",病院リスト!B5) -> 4 | C5: 地域III | D5: 3
A6: =IF(ISBLANK(病院リスト!A6), "", 病院リスト!A6) -> 病院E | B6: =IF(ISBLANK(病院リスト!B6),"",病院リスト!B6) -> 3 | C6: 地域II | D6: 2
A7: =IF(ISBLANK(病院リスト!A7), "", 病院リスト!A7) -> 病院F | B7: =IF(ISBLANK(病院リスト!B7),"",病院リスト!B7) -> 8 | C7: 地域II | D7: 6
A8: =IF(ISBLANK(病院リスト!A8), "", 病院リスト!A8) | B8: =IF(ISBLANK(病院リスト!B8),"",病院リスト!B8)
A9: =IF(ISBLANK(病院リスト!A9), "", 病院リスト!A9) | B9: =IF(ISBLANK(病院リスト!B9),"",病院リスト!B9)
A10: =IF(ISBLANK(病院リスト!A10), "", 病院リスト!A10) | B10: =IF(ISBLANK(病院リスト!B10),"",病院リスト!B10)
A11: =IF(ISBLANK(病院リスト!A11), "", 病院リスト!A11) | B11: =IF(ISBLANK(病院リスト!B11),"",病院リスト!B11)
A12: =IF(ISBLANK(病院リスト!A12), "", 病院リスト!A12) | B12: =IF(ISBLANK(病院リスト!B12),"",病院リスト!B12)
A13: =IF(ISBLANK(病院リスト!A13), "", 病院リスト!A13) | B13: =IF(ISBLANK(病院リスト!B13),"",病院リスト!B13)
A14: =IF(ISBLANK(病院リスト!A14), "", 病院リスト!A14) | B14: =IF(ISBLANK(病院リスト!B14),"",病院リスト!B14)
A15: =IF(ISBLANK(病院リスト!A15), "", 病院リスト!A15) | B15: =IF(ISBLANK(病院リスト!B15),"",病院リスト!B15)
A16: =IF(ISBLANK(病院リスト!A16), "", 病院リスト!A16) | B16: =IF(ISBLANK(病院リスト!B16),"",病院リスト!B16)
A17: =IF(ISBLANK(病院リスト!A17), "", 病院リスト!A17) | B17: =IF(ISBLANK(病院リスト!B17),"",病院リスト!B17)
A18: =IF(ISBLANK(病院リスト!A18), "", 病院リスト!A18) | B18: =IF(ISBLANK(病院リスト!B18),"",病院リスト!B18)
A19: =IF(ISBLANK(病院リスト!A19), "", 病院リスト!A19) | B19: =IF(ISBLANK(病院リスト!B19),"",病院リスト!B19)
... A21: =IF(ISBLANK(病院リスト!A21), "", 病院リスト!A21) | B21: =IF(ISBLANK(病院リスト!B21),"",病院リスト!B21)
A24: 地域名 | B24: 各地域の定員 | C24: 目標定員の合計 | D24: 地域制約を満たすか
A25: =IF(ISBLANK(地域リスト!A2), "", 地域リスト!A2) -> 地域I | B25: =IF(ISBLANK(地域リスト!B2), "", 地域リスト!B2) -> 15 | C25: =SUMIF(C2:C21, A25, D2:D21) -> 11 | D25: =IF(A25="", "", IF(B25>=C25, "はい", "いいえ")) -> はい
A26: =IF(ISBLANK(地域リスト!A3), "", 地域リスト!A3) -> 地域II | B26: =IF(ISBLANK(地域リスト!B3), "", 地域リスト!B3) -> 8 | C26: =SUMIF(C3:C22, A26, D3:D22) -> 8 | D26: =IF(A26="", "", IF(B26>=C26, "はい", "いいえ")) -> はい
A27: =IF(ISBLANK(地域リスト!A4), "", 地域リスト!A4) -> 地域III | B27: =IF(ISBLANK(地域リスト!B4), "", 地域リスト!B4) -> 12 | C27: =SUMIF(C4:C23, A27, D4:D23) -> 12 | D27: =IF(A27="", "", IF(B27>=C27, "はい", "いいえ")) -> はい
A28: =IF(ISBLANK(地域リスト!A5), "", 地域リスト!A5) | B28: =IF(ISBLANK(地域リスト!B5), "", 地域リスト!B5) | C28: =SUMIF(C5:C24, A28, D5:D24) -> 0 | D28: =IF(A28="", "", IF(B28>=C28, "はい", "いいえ"))
A29: =IF(ISBLANK(地域リスト!A6), "", 地域リスト!A6) | B29: =IF(ISBLANK(地域リスト!B6), "", 地域リスト!B6) | C29: =SUMIF(C6:C25, A29, D6:D25) -> 0 | D29: =IF(A29="", "", IF(B29>=C29, "はい", "いいえ"))
A30: =IF(ISBLANK(地域リスト!A7), "", 地域リスト!A7) | B30: =IF(ISBLANK(地域リスト!B7), "", 地域リスト!B7) | C30: =SUMIF(C7:C26, A30, D7:D26) -> 0 | D30: =IF(A30="", "", IF(B30>=C30, "はい", "いいえ"))
A31: =IF(ISBLANK(地域リスト!A8), "", 地域リスト!A8) | B31: =IF(ISBLANK(地域リスト!B8), "", 地域リスト!B8) | C31: =SUMIF(C8:C27, A31, D8:D27) -> 0 | D31: =IF(A31="", "", IF(B31>=C31, "はい", "いいえ"))
A32: =IF(ISBLANK(地域リスト!A9), "", 地域リスト!A9) | B32: =IF(ISBLANK(地域リスト!B9), "", 地域リスト!B9) | C32: =SUMIF(C9:C28, A32, D9:D28) -> 0 | D32: =IF(A32="", "", IF(B32>=C32, "はい", "いいえ"))
A33: =IF(ISBLANK(地域リスト!A10), "", 地域リスト!A10) | B33: =IF(ISBLANK(地域リスト!B10), "", 地域リスト!B10) | C33: =SUMIF(C10:C29, A33, D10:D29) -> 0 | D33: =IF(A33="", "", IF(B33>=C33, "はい", "いいえ"))
A34: =IF(ISBLANK(地域リスト!A11), "", 地域リスト!A11) | B34: =IF(ISBLANK(地域リスト!B11), "", 地域リスト!B11) | C34: =SUMIF(C11:C30, A34, D11:D30) -> 0 | D34: =IF(A34="", "", IF(B34>=C34, "はい", "いいえ"))
A35: =IF(ISBLANK(地域リスト!A12), "", 地域リスト!A12) | B35: =IF(ISBLANK(地域リスト!B12), "", 地域リスト!B12) | C35: =SUMIF(C12:C31, A35, D12:D31) -> 0 | D35: =IF(A35="", "", IF(B35>=C35, "はい", "いいえ"))
A36: =IF(ISBLANK(地域リスト!A13), "", 地域リスト!A13) | B36: =IF(ISBLANK(地域リスト!B13), "", 地域リスト!B13) | C36: =SUMIF(C13:C32, A36, D13:D32) -> 0 | D36: =IF(A36="", "", IF(B36>=C36, "はい", "いいえ"))
... A44: =IF(ISBLANK(地域リスト!A21), "", 地域リスト!A21) | B44: =IF(ISBLANK(地域リスト!B21), "", 地域リスト!B21) | C44: =SUMIF(C21:C40, A44, D21:D40) -> 0 | D44: =IF(A44="", "", IF(B44>=C44, "はい", "いいえ"))

Sheet 計算用
A1: ・計算用シートです。編集しないでください。
A3: 研修医数 | B3: =COUNTA(研修医リスト!A2:A101) -> 30
A4: 病院数 | B4: =COUNTA(病院リスト!A2:A21) -> 6
A5: 地域数 | B5: =COUNTA(地域リスト!A3:A22) -> 2
