Workbook

Sheet 説明
A1: 部署配属マッチングシミュレータ データ入力用スプレッドシート
A2: 注意事項 ・社員の数は最大100、部署の数はそれぞれ最大20です。 ・各シート名は変更しないでください。 ・アプリケーション側ではデータを保管していませんが、必要であれば社員の名前などの個人情報は匿名化して入力してください。 ・各シート太枠内のみ入力可能です。 使用法 最初に以下の2つを入力してください。 ・「社員リスト」のシートに、各社員の「名前（or 一意なID）」を入力してください。 ・「部署リスト」のシートに、各部署の「名称（or 一意なID）」「定員」を入力してください。 以上を入力後、続けて以下の2つを入力してください。 ・「社員希望順」のシートに、各社員の「各部署に対する希望順位」を入力してください。 ・「部署希望順」のシートに、各部署の「各社員に対する希望順位」を入力してください。

Sheet 社員リスト
A1: 社員名
A2: 社員1
A3: 社員2
A4: 社員3
A5: 社員4
A6: 社員5
A7: 社員6
A8: 社員7
A9: 社員8
A10: 社員9
A11: 社員10
A12: 社員11
... A31: 社員30

Sheet 部署リスト
A1: 部署名 | B1: 定員
A2: 部署A | B2: 6
A3: 部署B | B3: 5
A4: 部署C | B4: 10
A5: 部署D | B5: 4
A6: 部署E | B6: 3
A7: 部署F | B7: 8

Sheet 社員希望順
A1: =社員リスト!A1 -> 社員名 | B1: =IF(COLUMN(B1)-1 <= 計算用!$B$4, "第"&TEXT(COLUMN(B1)-1, "@")&"希望", "") -> 第1希望 | C1: =IF(COLUMN(C1)-1 <= 計算用!$B$4, "第"&TEXT(COLUMN(C1)-1, "@")&"希望", "") -> 第2希望 | D1: =IF(COLUMN(D1)-1 <= 計算用!$B$4, "第"&TEXT(COLUMN(D1)-1, "@")&"希望", "") -> 第3希望 | E1: =IF(COLUMN(E1)-1 <= 計算用!$B$4, "第"&TEXT(COLUMN(E1)-1, "@")&"希望", "") -> 第4希望 | F1: =IF(COLUMN(F1)-1 <= 計算用!$B$4, "第"&TEXT(COLUMN(F1)-1, "@")&"希望", "") -> 第5希望 | G1: =IF(COLUMN(G1)-1 <= 計算用!$B$4, "第"&TEXT(COLUMN(G1)-1, "@")&"希望", "") -> 第6希望 | H1: =IF(COLUMN(H1)-1 <= 計算用!$B$4, "第"&TEXT(COLUMN(H1)-1, "@")&"希望", "") | I1: =IF(COLUMN(I1)-1 <= 計算用!$B$4, "第"&TEXT(COLUMN(I1)-1, "@")&"希望", "") | ... U1: =IF(COLUMN(U1)-1 <= 計算用!$B$4, "第"&TEXT(COLUMN(U1)-1, "@")&"希望", "")
A2: =IF(ISBLANK(社員リスト!A2), "", 社員リスト!A2) -> 社員1 | B2: 部署A | C2: 部署B | D2: 部署C | E2: 部署D | F2: 部署E | G2: 部署F
A3: =IF(ISBLANK(社員リスト!A3), "", 社員リスト!A3) -> 社員2 | B3: 部署A | C3: 部署B | D3: 部署C | E3: 部署D | F3: 部署E | G3: 部署F
A4: =IF(ISBLANK(社員リスト!A4), "", 社員リスト!A4) -> 社員3 | B4: 部署A | C4: 部署B | D4: 部署C | E4: 部署D | F4: 部署E | G4: 部署F
A5: =IF(ISBLANK(社員リスト!A5), "", 社員リスト!A5) -> 社員4 | B5: 部署A | C5: 部署B | D5: 部署C | E5: 部署D | F5: 部署E | G5: 部署F
A6: =IF(ISBLANK(社員リスト!A6), "", 社員リスト!A6) -> 社員5 | B6: 部署A | C6: 部署B | D6: 部署C | E6: 部署D | F6: 部署E | G6: 部署F
A7: =IF(ISBLANK(社員リスト!A7), "", 社員リスト!A7) -> 社員6 | B7: 部署A | C7: 部署B | D7: 部署C | E7: 部署D | F7: 部署E | G7: 部署F
A8: =IF(ISBLANK(社員リスト!A8), "", 社員リスト!A8) -> 社員7 | B8: 部署A | C8: 部署B | D8: 部署C | E8: 部署D | F8: 部署E | G8: 部署F
A9: =IF(ISBLANK(社員リスト!A9), "", 社員リスト!A9) -> 社員8 | B9: 部署A | C9: 部署B | D9: 部署C | E9: 部署D | F9: 部署E | G9: 部署F
A10: =IF(ISBLANK(社員リスト!A10), "", 社員リスト!A10) -> 社員9 | B10: 部署A | C10: 部署B | D10: 部署C | E10: 部署D | F10: 部署E | G10: 部署F
A11: =IF(ISBLANK(社員リスト!A11), "", 社員リスト!A11) -> 社員10 | B11: 部署A | C11: 部署B | D11: 部署C | E11: 部署D | F11: 部署E | G11: 部署F
A12: =IF(ISBLANK(社員リスト!A12), "", 社員リスト!A12) -> 社員11 | B12: 部署B | C12: 部署C | D12: 部署D | E12: 部署E | F12: 部署F | G12: 部署A
A13: =IF(ISBLANK(社員リスト!A13), "", 社員リスト!A13) -> 社員12 | B13: 部署B | C13: 部署C | D13: 部署D | E13: 部署E | F13: 部署F | G13: 部署A
... A21: =IF(ISBLANK(社員リスト!A21), "", 社員リスト!A21) -> 社員20 | B21: 部署B | C21: 部署C | D21: 部署D | E21: 部署E | F21: 部署F | G21: 部署A
A22: =IF(ISBLANK(社員リスト!A22), "", 社員リスト!A22) -> 社員21 | B22: 部署F | C22: 部署D | D22: 部署B
A23: =IF(ISBLANK(社員リスト!A23), "", 社員リスト!A23) -> 社員22 | B23: 部署F | C23: 部署D | D23: 部署B
A24: =IF(ISBLANK(社員リスト!A24), "", 社員リスト!A24) -> 社員23 | B24: 部署F | C24: 部署D | D24: 部署B
A25: =IF(ISBLANK(社員リスト!A25), "", 社員リスト!A25) -> 社員24 | B25: 部署F | C25: 部署D | D25: 部署B
A26: =IF(ISBLANK(社員リスト!A26), "", 社員リスト!A26) -> 社員25 | B26: 部署F | C26: 部署D | D26: 部署B
A27: =IF(ISBLANK(社員リスト!A27), "", 社員リスト!A27) -> 社員26 | B27: 部署C | C27: 部署E
A28: =IF(ISBLANK(社員リスト!A28), "", 社員リスト!A28) -> 社員27 | B28: 部署C | C28: 部署E
A29: =IF(ISBLANK(社員リスト!A29), "", 社員リスト!A29) -> 社員28 | B29: 部署C | C29: 部署E
A30: =IF(ISBLANK(社員リスト!A30), "", 社員リスト!A30) -> 社員29 | B30: 部署C | C30: 部署E
A31: =IF(ISBLANK(社員リスト!A31), "", 社員リスト!A31) -> 社員30 | B31: 部署C | C31: 部署E
A32: =IF(ISBLANK(社員リスト!A32), "", 社員リスト!A32)
A33: =IF(ISBLANK(社員リスト!A33), "", 社員リスト!A33)
A34: =IF(ISBLANK(社員リスト!A34), "", 社員リスト!A34)
A35: =IF(ISBLANK(社員リスト!A35), "", 社員リスト!A35)
A36: =IF(ISBLANK(社員リスト!A36), "", 社員リスト!A36)
A37: =IF(ISBLANK(社員リスト!A37), "", 社員リスト!A37)
A38: =IF(ISBLANK(社員リスト!A38), "", 社員リスト!A38)
A39: =IF(ISBLANK(社員リスト!A39), "", 社員リスト!A39)
A40: =IF(ISBLANK(社員リスト!A40), "", 社員リスト!A40)
A41: =IF(ISBLANK(社員リスト!A41), "", 社員リスト!A41)
A42: =IF(ISBLANK(社員リスト!A42), "", 社員リスト!A42)
A43: =IF(ISBLANK(社員リスト!A43), "", 社員リスト!A43)
... A101: =IF(ISBLANK(社員リスト!A101), "", 社員リスト!A101)

Sheet 部署希望順
A1: =部署リスト!A1 -> 部署名 | B1: =IF(COLUMN(B1)-1 <= 計算用!$B$3, "第"&TEXT(COLUMN(B1)-1, "@")&"希望", "") -> 第1希望 | C1: =IF(COLUMN(C1)-1 <= 計算用!$B$3, "第"&TEXT(COLUMN(C1)-1, "@")&"希望", "") -> 第2希望 | D1: =IF(COLUMN(D1)-1 <= 計算用!$B$3, "第"&TEXT(COLUMN(D1)-1, "@")&"希望", "") -> 第3希望 | E1: =IF(COLUMN(E1)-1 <= 計算用!$B$3, "第"&TEXT(COLUMN(E1)-1, "@")&"希望", "") -> 第4希望 | F1: =IF(COLUMN(F1)-1 <= 計算用!$B$3, "第"&TEXT(COLUMN(F1)-1, "@")&"希望", "") -> 第5希望 | G1: =IF(COLUMN(G1)-1 <= 計算用!$B$3, "第"&TEXT(COLUMN(G1)-1, "@")&"希望", "") -> 第6希望 | H1: =IF(COLUMN(H1)-1 <= 計算用!$B$3, "第"&TEXT(COLUMN(H1)-1, "@")&"希望", "") -> 第7希望 | I1: =IF(COLUMN(I1)-1 <= 計算用!$B$3, "第"&TEXT(COLUMN(I1)-1, "@")&"希望", "") -> 第8希望 | ... CW1: =IF(COLUMN(CW1)-1 <= 計算用!$B$3, "第"&TEXT(COLUMN(CW1)-1, "@")&"希望", "")
A2: =IF(ISBLANK(部署リスト!A2), "", 部署リスト!A2) -> 部署A | B2: 社員1 | C2: 社員2 | D2: 社員3 | E2: 社員4 | F2: 社員5 | G2: 社員6 | H2: 社員7 | I2: 社員8 | J2: 社員9 | K2: 社員10 | L2: 社員11 | M2: 社員12 | N2: 社員13 | O2: 社員14 | P2: 社員15 | Q2: 社員16 | R2: 社員17 | S2: 社員18 | T2: 社員19 | U2: 社員20 | V2: 社員21 | W2: 社員22 | X2: 社員23 | Y2: 社員24 | Z2: 社員25 | AA2: 社員26 | AB2: 社員27 | AC2: 社員28 | AD2: 社員29 | AE2: 社員30
A3: =IF(ISBLANK(部署リスト!A3), "", 部署リスト!A3) -> 部署B | B3: 社員1 | C3: 社員2 | D3: 社員3 | E3: 社員4 | F3: 社員5 | G3: 社員6 | H3: 社員7 | I3: 社員8 | J3: 社員9 | K3: 社員10 | L3: 社員11 | M3: 社員12 | N3: 社員13 | O3: 社員14 | P3: 社員15 | Q3: 社員16 | R3: 社員17 | S3: 社員18 | T3: 社員19 | U3: 社員20 | V3: 社員21 | W3: 社員22 | X3: 社員23 | Y3: 社員24 | Z3: 社員25 | AA3: 社員26 | AB3: 社員27 | AC3: 社員28 | AD3: 社員29 | AE3: 社員30
A4: =IF(ISBLANK(部署リスト!A4), "", 部署リスト!A4) -> 部署C | B4: 社員15 | C4: 社員16 | D4: 社員17 | E4: 社員18 | F4: 社員19 | G4: 社員20 | H4: 社員21 | I4: 社員22 | J4: 社員23 | K4: 社員24 | L4: 社員25 | M4: 社員26 | N4: 社員27 | O4: 社員28 | P4: 社員29 | Q4: 社員30
A5: =IF(ISBLANK(部署リスト!A5), "", 部署リスト!A5) -> 部署D | B5: 社員15 | C5: 社員16 | D5: 社員17 | E5: 社員18 | F5: 社員19 | G5: 社員20 | H5: 社員21 | I5: 社員22 | J5: 社員23 | K5: 社員24 | L5: 社員25 | M5: 社員26 | N5: 社員27 | O5: 社員28 | P5: 社員29 | Q5: 社員30
A6: =IF(ISBLANK(部署リスト!A6), "", 部署リスト!A6) -> 部署E | B6: 社員1 | C6: 社員2 | D6: 社員3 | E6: 社員4 | F6: 社員5 | G6: 社員6 | H6: 社員7 | I6: 社員8 | J6: 社員9 | K6: 社員10 | L6: 社員11 | M6: 社員12 | N6: 社員13 | O6: 社員14 | P6: 社員15 | Q6: 社員16 | R6: 社員17 | S6: 社員18
A7: =IF(ISBLANK(部署リスト!A7), "", 部署リスト!A7) -> 部署F | B7: 社員20 | C7: 社員21 | D7: 社員22 | E7: 社員23 | F7: 社員24 | G7: 社員25 | H7: 社員26 | I7: 社員27 | J7: 社員28 | K7: 社員29 | L7: 社員30
A8: =IF(ISBLANK(部署リスト!A8), "", 部署リスト!A8)
A9: =IF(ISBLANK(部署リスト!A9), "", 部署リスト!A9)
A10: =IF(ISBLANK(部署リスト!A10), "", 部署リスト!A10)
A11: =IF(ISBLANK(部署リスト!A11), "", 部署リスト!A11)
A12: =IF(ISBLANK(部署リスト!A12), "", 部署リスト!A12)
A13: =IF(ISBLANK(部署リスト!A13), "", 部署リスト!A13)
A14: =IF(ISBLANK(部署リスト!A14), "", 部署リスト!A14)
A15: =IF(ISBLANK(部署リスト!A15), "", 部署リスト!A15)
A16: =IF(ISBLANK(部署リスト!A16), "", 部署リスト!A16)
A17: =IF(ISBLANK(部署リスト!A17), "", 部署リスト!A17)
A18: =IF(ISBLANK(部署リスト!A18), "", 部署リスト!A18)
A19: =IF(ISBLANK(部署リスト!A19), "", 部署リスト!A19)
... A21: =IF(ISBLANK(部署リスト!A21), "", 部署リスト!A21)

Sheet 計算用
A1: ・計算用シートです。編集しないでください。
A3: 社員数 | B3: =COUNTA(社員リスト!A2:A101) -> 30
A4: 部署数 | B4: =COUNTA(部署リスト!A2:A21) -> 6
